BEGIN:VCALENDAR
VERSION:2.0
PRODID:-//IP.Board Calendar 4.4.10//EN
METHOD:PUBLISH
CALSCALE:GREGORIAN
BEGIN:VTIMEZONE
TZID:Europe/London
TZURL:http://tzurl.org/zoneinfo/Europe/London
X-LIC-LOCATION:Europe/London
BEGIN:DAYLIGHT
TZOFFSETFROM:+0000
TZOFFSETTO:+0100
TZNAME:BST
DTSTART:20210328T020000Z
RRULE:FREQ=YEARLY;BYMONTH=3;BYDAY=-1SU
END:DAYLIGHT
BEGIN:STANDARD
TZOFFSETFROM:+0100
TZOFFSETTO:+0000
TZNAME:GMT
DTSTART:20211031T020000Z
RRULE:FREQ=YEARLY;BYMONTH=10;BYDAY=-1SU
END:STANDARD
END:VTIMEZONE
BEGIN:VTIMEZONE
TZID:Europe/London
TZURL:http://tzurl.org/zoneinfo/Europe/London
X-LIC-LOCATION:Europe/London
BEGIN:DAYLIGHT
TZOFFSETFROM:+0000
TZOFFSETTO:+0100
TZNAME:BST
DTSTART:20190331T020000Z
RRULE:FREQ=YEARLY;BYMONTH=3;BYDAY=-1SU
END:DAYLIGHT
BEGIN:STANDARD
TZOFFSETFROM:+0100
TZOFFSETTO:+0000
TZNAME:GMT
DTSTART:20191027T020000Z
RRULE:FREQ=YEARLY;BYMONTH=10;BYDAY=-1SU
END:STANDARD
END:VTIMEZONE
BEGIN:VTIMEZONE
TZID:Europe/London
TZURL:http://tzurl.org/zoneinfo/Europe/London
X-LIC-LOCATION:Europe/London
BEGIN:DAYLIGHT
TZOFFSETFROM:+0000
TZOFFSETTO:+0100
TZNAME:BST
DTSTART:20180325T020000Z
RRULE:FREQ=YEARLY;BYMONTH=3;BYDAY=-1SU
END:DAYLIGHT
BEGIN:STANDARD
TZOFFSETFROM:+0100
TZOFFSETTO:+0000
TZNAME:GMT
DTSTART:20181028T020000Z
RRULE:FREQ=YEARLY;BYMONTH=10;BYDAY=-1SU
END:STANDARD
END:VTIMEZONE
BEGIN:VEVENT
SUMMARY:[GPO du Dimanche] Market Garden
DTSTAMP:20210421T160400Z
SEQUENCE:0
UID:41-7-c289d399a348f920abcc2f5fa0f5b16d@forum.reseau-js.com
ORGANIZER;CN="Mouchi":reseaujeuxstrategie@gmail.com
DESCRIPTION:\n\n	 \n
DTSTART:20210425T183000Z
DTEND:20210425T213000Z
RRULE:FREQ=WEEKLY;INTERVAL=1;COUNT=6
END:VEVENT
BEGIN:VEVENT
SUMMARY:LA GPO DES MINEURS
DTSTAMP:20210421T160512Z
SEQUENCE:0
UID:42-7-c289d399a348f920abcc2f5fa0f5b16d@forum.reseau-js.com
ORGANIZER;CN="Mouchi":reseaujeuxstrategie@gmail.com
DESCRIPTION:\n\n	 \n
DTSTART:20210423T183000Z
DTEND:20210423T213000Z
RRULE:FREQ=WEEKLY;INTERVAL=1;COUNT=5
END:VEVENT
BEGIN:VEVENT
SUMMARY:[GPO du Dimanche] Opération Marita
DTSTAMP:20210110T211813Z
SEQUENCE:0
UID:40-7-c289d399a348f920abcc2f5fa0f5b16d@forum.reseau-js.com
ORGANIZER;CN="Mouchi":reseaujeuxstrategie@gmail.com
DESCRIPTION:\n\n	 \n
DTSTART:20210117T193000Z
DTEND:20210117T223000Z
RRULE:FREQ=WEEKLY;INTERVAL=1;UNTIL=20210417T220000;BYDAY=SU
END:VEVENT
BEGIN:VEVENT
SUMMARY:GPO du mardi scénario 39
DTSTAMP:20190327T205833Z
SEQUENCE:0
UID:37-7-c289d399a348f920abcc2f5fa0f5b16d@forum.reseau-js.com
ORGANIZER;CN="Mouchi":reseaujeuxstrategie@gmail.com
DESCRIPTION:\n\n\n	 \n\n
DTSTART:20190312T193000Z
DTEND:20190312T220000Z
RRULE:FREQ=WEEKLY;INTERVAL=1;UNTIL=20190701T220000
END:VEVENT
BEGIN:VEVENT
SUMMARY:GPO Imperator
DTSTAMP:20190609T101901Z
SEQUENCE:0
UID:38-7-c289d399a348f920abcc2f5fa0f5b16d@forum.reseau-js.com
ORGANIZER;CN="Mouchi":reseaujeuxstrategie@gmail.com
DESCRIPTION:\n\n\n	 \n\n
DTSTART:20190609T183000Z
DTEND:20190609T215900Z
END:VEVENT
BEGIN:VEVENT
SUMMARY:GPO HoI 4
DTSTAMP:20181121T210027Z
SEQUENCE:0
UID:33-7-c289d399a348f920abcc2f5fa0f5b16d@forum.reseau-js.com
ORGANIZER;CN="Mouchi":reseaujeuxstrategie@gmail.com
DESCRIPTION:\n\n	GPO du dimanche pour tester le scénario 39 en attendan
	t Man The Guns\n\n\n
DTSTART:20181125T193000Z
RRULE:FREQ=WEEKLY;INTERVAL=1;UNTIL=20190525T220000;BYDAY=SU
END:VEVENT
BEGIN:VEVENT
SUMMARY:GPO HOI4
DTSTAMP:20180521T162107Z
SEQUENCE:0
UID:29-7-c289d399a348f920abcc2f5fa0f5b16d@forum.reseau-js.com
ORGANIZER;CN="julien de la normandie":reseaujeuxstrategie@gm
	ail.com
DESCRIPTION:\n\n	LA GPO HOI4 de Stratégium.\n\n\n\n	Mod maison\, commun
	auté sympa.\n\n\n\n	Débutants bienvenus.\n\n\n\n	 \n\n\n\n	N'hesitez p
	as à nous contacter sur le forum\, rubrique HOI4\, GPO.\n\n
DTSTART:20180528T014500Z
DTEND:20180527T050000Z
RRULE:FREQ=WEEKLY;INTERVAL=1;UNTIL=20180701T050000
END:VEVENT
END:VCALENDAR
