BEGIN:VCALENDAR
VERSION:2.0
PRODID:-//IP.Board Calendar 4.4.10//EN
METHOD:PUBLISH
CALSCALE:GREGORIAN
X-WR-CALNAME:Les Sorties
BEGIN:VTIMEZONE
TZID:Europe/London
TZURL:http://tzurl.org/zoneinfo/Europe/London
X-LIC-LOCATION:Europe/London
BEGIN:DAYLIGHT
TZOFFSETFROM:+0000
TZOFFSETTO:+0100
TZNAME:BST
DTSTART:20160327T020000Z
RRULE:FREQ=YEARLY;BYMONTH=3;BYDAY=-1SU
END:DAYLIGHT
BEGIN:STANDARD
TZOFFSETFROM:+0100
TZOFFSETTO:+0000
TZNAME:GMT
DTSTART:20161030T020000Z
RRULE:FREQ=YEARLY;BYMONTH=10;BYDAY=-1SU
END:STANDARD
END:VTIMEZONE
BEGIN:VEVENT
SUMMARY:Civilization 6
DTSTAMP:20160904T071952Z
SEQUENCE:0
UID:1-3-c289d399a348f920abcc2f5fa0f5b16d@forum.reseau-js.com
ORGANIZER;CN="Socros":reseaujeuxstrategie@gmail.com
DESCRIPTION:\n	Sortie de Civilization 6 ! Vous pouvez retrouver le jeu c
	hez notre partenaire Gamesplanet.\n
DTSTART;VALUE=DATE:20161021
END:VEVENT
END:VCALENDAR
