BEGIN:VCALENDAR
VERSION:2.0
PRODID:-//IP.Board Calendar 4.4.10//EN
METHOD:PUBLISH
CALSCALE:GREGORIAN
X-WR-CALNAME:L&#039;agenda de la Chaîne
BEGIN:VTIMEZONE
TZID:Europe/London
TZURL:http://tzurl.org/zoneinfo/Europe/London
X-LIC-LOCATION:Europe/London
BEGIN:DAYLIGHT
TZOFFSETFROM:+0000
TZOFFSETTO:+0100
TZNAME:BST
DTSTART:20160327T020000Z
RRULE:FREQ=YEARLY;BYMONTH=3;BYDAY=-1SU
END:DAYLIGHT
BEGIN:STANDARD
TZOFFSETFROM:+0100
TZOFFSETTO:+0000
TZNAME:GMT
DTSTART:20161030T020000Z
RRULE:FREQ=YEARLY;BYMONTH=10;BYDAY=-1SU
END:STANDARD
END:VTIMEZONE
BEGIN:VEVENT
SUMMARY:Vidéo Découverte Oriental Empires
DTSTAMP:20160921T114616Z
SEQUENCE:0
UID:12-5-c289d399a348f920abcc2f5fa0f5b16d@forum.reseau-js.com
ORGANIZER;CN="Socros":reseaujeuxstrategie@gmail.com
DESCRIPTION:\n\n	Ce samedi je vous propose de découvrir une nouvelle vi
	déo découverte avec la présentation d'Oriental Empires.\n\n\n\n\n	 \n\
	n
DTSTART:20160924T150000Z
DTEND:20160924T150100Z
END:VEVENT
END:VCALENDAR
