BEGIN:VCALENDAR
VERSION:2.0
PRODID:-//IP.Board Calendar 4.4.10//EN
METHOD:PUBLISH
CALSCALE:GREGORIAN
X-WR-CALNAME:Les Sorties
BEGIN:VTIMEZONE
TZID:Europe/London
TZURL:http://tzurl.org/zoneinfo/Europe/London
X-LIC-LOCATION:Europe/London
BEGIN:DAYLIGHT
TZOFFSETFROM:+0000
TZOFFSETTO:+0100
TZNAME:BST
DTSTART:20170326T020000Z
RRULE:FREQ=YEARLY;BYMONTH=3;BYDAY=-1SU
END:DAYLIGHT
BEGIN:STANDARD
TZOFFSETFROM:+0100
TZOFFSETTO:+0000
TZNAME:GMT
DTSTART:20171029T020000Z
RRULE:FREQ=YEARLY;BYMONTH=10;BYDAY=-1SU
END:STANDARD
END:VTIMEZONE
BEGIN:VEVENT
SUMMARY:Utopie
DTSTAMP:20170227T150158Z
SEQUENCE:0
UID:21-3-c289d399a348f920abcc2f5fa0f5b16d@forum.reseau-js.com
ORGANIZER;CN="Loup":reseaujeuxstrategie@gmail.com
DESCRIPTION:\n	Sortie du DLC Utopie pour Stellaris.\n
DTSTART;VALUE=DATE:20170406
END:VEVENT
END:VCALENDAR
