BEGIN:VCALENDAR
VERSION:2.0
PRODID:-//IP.Board Calendar 4.4.10//EN
METHOD:PUBLISH
CALSCALE:GREGORIAN
X-WR-CALNAME:Communauté
BEGIN:VTIMEZONE
TZID:Europe/London
TZURL:http://tzurl.org/zoneinfo/Europe/London
X-LIC-LOCATION:Europe/London
BEGIN:DAYLIGHT
TZOFFSETFROM:+0000
TZOFFSETTO:+0100
TZNAME:BST
DTSTART:20170326T020000Z
RRULE:FREQ=YEARLY;BYMONTH=3;BYDAY=-1SU
END:DAYLIGHT
BEGIN:STANDARD
TZOFFSETFROM:+0100
TZOFFSETTO:+0000
TZNAME:GMT
DTSTART:20171029T020000Z
RRULE:FREQ=YEARLY;BYMONTH=10;BYDAY=-1SU
END:STANDARD
END:VTIMEZONE
BEGIN:VEVENT
SUMMARY:Remise du Prix Sudden Strike
DTSTAMP:20170806T110816Z
SEQUENCE:0
UID:23-2-c289d399a348f920abcc2f5fa0f5b16d@forum.reseau-js.com
ORGANIZER;CN="laurentlefou":reseaujeuxstrategie@gmail.com
DESCRIPTION:\n	Le 31 Janvier 2018 le gagnant du championnat Sudden Strik
	e 1ère saison reçoit son titre et son prix. \n\n\n	Une grande cérémo
	nie est prévue ^-)\n
DTSTART;VALUE=DATE:20171231
END:VEVENT
END:VCALENDAR
