BEGIN:VCALENDAR
VERSION:2.0
PRODID:-//IP.Board Calendar 4.4.10//EN
METHOD:PUBLISH
CALSCALE:GREGORIAN
X-WR-CALNAME:Communauté
BEGIN:VTIMEZONE
TZID:Europe/London
TZURL:http://tzurl.org/zoneinfo/Europe/London
X-LIC-LOCATION:Europe/London
BEGIN:DAYLIGHT
TZOFFSETFROM:+0000
TZOFFSETTO:+0100
TZNAME:BST
DTSTART:20180325T020000Z
RRULE:FREQ=YEARLY;BYMONTH=3;BYDAY=-1SU
END:DAYLIGHT
BEGIN:STANDARD
TZOFFSETFROM:+0100
TZOFFSETTO:+0000
TZNAME:GMT
DTSTART:20181028T020000Z
RRULE:FREQ=YEARLY;BYMONTH=10;BYDAY=-1SU
END:STANDARD
END:VTIMEZONE
BEGIN:VEVENT
SUMMARY:Concours Mini AAR de l'été 2018
DTSTAMP:20180701T140630Z
SEQUENCE:0
UID:32-2-c289d399a348f920abcc2f5fa0f5b16d@forum.reseau-js.com
ORGANIZER;CN="Loup":reseaujeuxstrategie@gmail.com
DESCRIPTION:\n\n	Pendant deux mois d'été\, la rédaction vous propose\
	, en plus de nos articles d'actualité et autres contenus habituels\, un c
	oncours de mini-AAR de l'été.\n\n\n\n	 \n\n\n\n	Retrouvez toutes les i
	nformations dans le sujet forum dédié :\n\n\n\n	 \n\n\n\n\n	 \n\n\n\n	
	Pour participer\, ajoutez votre billet au blog dédié :\n\n\n\n	 \n\n\n
DTSTART:20180630T220000Z
DTEND:20180901T215900Z
END:VEVENT
END:VCALENDAR
